Workbook

Sheet TAS
B1: A1 | C1: A2 | D1: ΔABS | E1: Sonuç
A2: Su | D2: =C2-B2 -> 0 | E2: =($D$2-D2)/($D$2-$D$3) -> #DIV/0!
A3: Standard | D3: =C3-B3 -> 0 | E3: =($D$2-D3)/($D$2-$D$3) -> #DIV/0!
A4: Level 1 | D4: =C4-B4 -> 0 | E4: =($D$2-D4)/($D$2-$D$3) -> #DIV/0!
A5: Level 2 | D5: =C5-B5 -> 0 | E5: =($D$2-D5)/($D$2-$D$3) -> #DIV/0!
A6: 1 | D6: =C6-B6 -> 0 | E6: =($D$2-D6)/($D$2-$D$3) -> #DIV/0!
A7: 2 | D7: =C7-B7 -> 0 | E7: =($D$2-D7)/($D$2-$D$3) -> #DIV/0!
A8: 3 | D8: =C8-B8 -> 0 | E8: =($D$2-D8)/($D$2-$D$3) -> #DIV/0!
A9: 4 | D9: =C9-B9 -> 0 | E9: =($D$2-D9)/($D$2-$D$3) -> #DIV/0!
A10: 5 | D10: =C10-B10 -> 0 | E10: =($D$2-D10)/($D$2-$D$3) -> #DIV/0!
A11: 6 | D11: =C11-B11 -> 0 | E11: =($D$2-D11)/($D$2-$D$3) -> #DIV/0!
A12: 7 | D12: =C12-B12 -> 0 | E12: =($D$2-D12)/($D$2-$D$3) -> #DIV/0!
A13: 8 | D13: =C13-B13 -> 0 | E13: =($D$2-D13)/($D$2-$D$3) -> #DIV/0!
A14: 9 | D14: =C14-B14 -> 0 | E14: =($D$2-D14)/($D$2-$D$3) -> #DIV/0!
A15: 10 | D15: =C15-B15 -> 0 | E15: =($D$2-D15)/($D$2-$D$3) -> #DIV/0!
A16: 11 | D16: =C16-B16 -> 0 | E16: =($D$2-D16)/($D$2-$D$3) -> #DIV/0!
A17: 12 | D17: =C17-B17 -> 0 | E17: =($D$2-D17)/($D$2-$D$3) -> #DIV/0!
... A53: 48 | D53: =C53-B53 -> 0 | E53: =($D$2-D53)/($D$2-$D$3) -> #DIV/0!

Sheet TOS
B1: A1 | C1: A2 | D1: ΔABS | E1: Sonuç
A2: Standard | D2: =C2-B2 -> 0 | E2: =(D2/$D$2)*10 -> #DIV/0!
A3: Level 1 | D3: =C3-B3 -> 0 | E3: =(D3/$D$2)*10 -> #DIV/0!
A4: Level 2 | D4: =C4-B4 -> 0 | E4: =(D4/$D$2)*10 -> #DIV/0!
A5: 1 | D5: =C5-B5 -> 0 | E5: =(D5/$D$2)*10 -> #DIV/0!
A6: 2 | D6: =C6-B6 -> 0 | E6: =(D6/$D$2)*10 -> #DIV/0!
A7: 3 | D7: =C7-B7 -> 0 | E7: =(D7/$D$2)*10 -> #DIV/0!
A8: 4 | D8: =C8-B8 -> 0 | E8: =(D8/$D$2)*10 -> #DIV/0!
A9: 5 | D9: =C9-B9 -> 0 | E9: =(D9/$D$2)*10 -> #DIV/0!
A10: 6 | D10: =C10-B10 -> 0 | E10: =(D10/$D$2)*10 -> #DIV/0!
A11: 7 | D11: =C11-B11 -> 0 | E11: =(D11/$D$2)*10 -> #DIV/0!
A12: 8 | D12: =C12-B12 -> 0 | E12: =(D12/$D$2)*10 -> #DIV/0!
A13: 9 | D13: =C13-B13 -> 0 | E13: =(D13/$D$2)*10 -> #DIV/0!
A14: 10 | D14: =C14-B14 -> 0 | E14: =(D14/$D$2)*10 -> #DIV/0!
A15: 11 | D15: =C15-B15 -> 0 | E15: =(D15/$D$2)*10 -> #DIV/0!
A16: 12 | D16: =C16-B16 -> 0 | E16: =(D16/$D$2)*10 -> #DIV/0!
... A52: 48 | D52: =C52-B52 -> 0 | E52: =(D52/$D$2)*10 -> #DIV/0!

Sheet OSI
A1: 1 | B1: =((TOS!E5)/(TAS!E6*1000))*100 -> #DIV/0!
A2: 2 | B2: =((TOS!E6)/(TAS!E7*1000))*100 -> #DIV/0!
A3: 3 | B3: =((TOS!E7)/(TAS!E8*1000))*100 -> #DIV/0!
A4: 4 | B4: =((TOS!E8)/(TAS!E9*1000))*100 -> #DIV/0!
A5: 5 | B5: =((TOS!E9)/(TAS!E10*1000))*100 -> #DIV/0!
A6: 6 | B6: =((TOS!E10)/(TAS!E11*1000))*100 -> #DIV/0!
A7: 7 | B7: =((TOS!E11)/(TAS!E12*1000))*100 -> #DIV/0!
A8: 8 | B8: =((TOS!E12)/(TAS!E13*1000))*100 -> #DIV/0!
A9: 9 | B9: =((TOS!E13)/(TAS!E14*1000))*100 -> #DIV/0!
A10: 10 | B10: =((TOS!E14)/(TAS!E15*1000))*100 -> #DIV/0!
A11: 11 | B11: =((TOS!E15)/(TAS!E16*1000))*100 -> #DIV/0!
A12: 12 | B12: =((TOS!E16)/(TAS!E17*1000))*100 -> #DIV/0!
... A48: 48 | B48: =((TOS!E52)/(TAS!E53*1000))*100 -> #DIV/0!
